Package: RBioinf Version: 1.68.0 Command: rm -rf RBioinf.buildbin-libdir && mkdir RBioinf.buildbin-libdir && /Users/biocbuild/BBS/utils/build-universal.sh RBioinf_1.68.0.tar.gz /Library/Frameworks/R.framework/Resources/bin/R RBioinf.buildbin-libdir StartedAt: 2025-04-21 22:47:52 -0400 (Mon, 21 Apr 2025) EndedAt: 2025-04-21 22:47:56 -0400 (Mon, 21 Apr 2025) EllapsedTime: 4.1 seconds RetCode: 0 Status: OK PackageFile: RBioinf_1.68.0.tgz PackageFileSize: 3.595 MiB