Package: RBioinf Version: 1.68.0 Command: /Library/Frameworks/R.framework/Resources/bin/R CMD build --keep-empty-dirs --no-resave-data RBioinf StartedAt: 2025-10-14 07:22:44 -0400 (Tue, 14 Oct 2025) EndedAt: 2025-10-14 07:23:06 -0400 (Tue, 14 Oct 2025) EllapsedTime: 21.6 seconds RetCode: 0 Status: OK PackageFile: RBioinf_1.68.0.tar.gz PackageFileSize: 3.544 MiB