Package: RBioinf Version: 1.68.0 Command: rm -rf RBioinf.buildbin-libdir && mkdir RBioinf.buildbin-libdir && /Users/biocbuild/BBS/utils/build-universal.sh RBioinf_1.68.0.tar.gz /Library/Frameworks/R.framework/Resources/bin/R RBioinf.buildbin-libdir StartedAt: 2025-10-15 19:58:33 -0400 (Wed, 15 Oct 2025) EndedAt: 2025-10-15 19:58:42 -0400 (Wed, 15 Oct 2025) EllapsedTime: 9.0 seconds RetCode: 0 Status: OK PackageFile: RBioinf_1.68.0.tgz PackageFileSize: 3.595 MiB