Package: RBioFormats Version: 1.8.0 Command: /home/biocbuild/bbs-3.21-bioc/R/bin/R CMD build --keep-empty-dirs --no-resave-data RBioFormats StartedAt: 2025-10-15 19:22:22 -0400 (Wed, 15 Oct 2025) EndedAt: 2025-10-15 19:22:39 -0400 (Wed, 15 Oct 2025) EllapsedTime: 17.0 seconds RetCode: 0 Status: OK PackageFile: RBioFormats_1.8.0.tar.gz PackageFileSize: 320.1 KiB