Package: RBioFormats Version: 1.8.0 Command: rm -rf RBioFormats.buildbin-libdir && mkdir RBioFormats.buildbin-libdir && /Users/biocbuild/BBS/utils/build-universal.sh RBioFormats_1.8.0.tar.gz /Library/Frameworks/R.framework/Resources/bin/R RBioFormats.buildbin-libdir StartedAt: 2025-10-15 19:58:28 -0400 (Wed, 15 Oct 2025) EndedAt: 2025-10-15 19:58:40 -0400 (Wed, 15 Oct 2025) EllapsedTime: 12.4 seconds RetCode: 0 Status: OK PackageFile: RBioFormats_1.8.0.tgz PackageFileSize: 523.5 KiB