Package: RBGL Version: 1.84.0 Command: /home/biocbuild/R/R/bin/R CMD INSTALL RBGL StartedAt: 2025-10-13 20:23:37 -0000 (Mon, 13 Oct 2025) EndedAt: 2025-10-13 20:26:20 -0000 (Mon, 13 Oct 2025) EllapsedTime: 162.7 seconds RetCode: 0 Status: OK