Package: RAREsim Version: 1.12.0 Command: /home/biocbuild/R/R/bin/R CMD INSTALL RAREsim StartedAt: 2025-10-13 20:14:24 -0000 (Mon, 13 Oct 2025) EndedAt: 2025-10-13 20:14:41 -0000 (Mon, 13 Oct 2025) EllapsedTime: 16.7 seconds RetCode: 0 Status: OK