Package: R4RNA Version: 1.36.0 Command: /home/biocbuild/R/R/bin/R CMD INSTALL R4RNA StartedAt: 2025-10-13 20:45:04 -0000 (Mon, 13 Oct 2025) EndedAt: 2025-10-13 20:45:18 -0000 (Mon, 13 Oct 2025) EllapsedTime: 14.0 seconds RetCode: 0 Status: OK