Package: R4RNA Version: 1.36.0 Command: /Library/Frameworks/R.framework/Resources/bin/R CMD INSTALL R4RNA StartedAt: 2025-10-13 15:53:02 -0400 (Mon, 13 Oct 2025) EndedAt: 2025-10-13 15:53:15 -0400 (Mon, 13 Oct 2025) EllapsedTime: 12.2 seconds RetCode: 0 Status: OK