Package: R453Plus1Toolbox Version: 1.58.0 Command: /home/biocbuild/bbs-3.21-bioc/R/bin/R CMD INSTALL R453Plus1Toolbox StartedAt: 2025-10-15 15:50:11 -0400 (Wed, 15 Oct 2025) EndedAt: 2025-10-15 15:51:21 -0400 (Wed, 15 Oct 2025) EllapsedTime: 69.4 seconds RetCode: 0 Status: OK