Package: R453Plus1Toolbox Version: 1.58.0 Command: /home/biocbuild/bbs-3.21-bioc/R/bin/R CMD build --keep-empty-dirs --no-resave-data R453Plus1Toolbox StartedAt: 2025-10-15 19:19:21 -0400 (Wed, 15 Oct 2025) EndedAt: 2025-10-15 19:21:13 -0400 (Wed, 15 Oct 2025) EllapsedTime: 112.1 seconds RetCode: 0 Status: OK PackageFile: R453Plus1Toolbox_1.58.0.tar.gz PackageFileSize: 838.8 KiB