Package: R453Plus1Toolbox Version: 1.58.0 Command: /Library/Frameworks/R.framework/Resources/bin/R CMD build --keep-empty-dirs --no-resave-data R453Plus1Toolbox StartedAt: 2025-10-13 21:48:30 -0400 (Mon, 13 Oct 2025) EndedAt: 2025-10-13 21:52:50 -0400 (Mon, 13 Oct 2025) EllapsedTime: 259.7 seconds RetCode: 0 Status: OK PackageFile: R453Plus1Toolbox_1.58.0.tar.gz PackageFileSize: 836.9 KiB