Package: R453Plus1Toolbox Version: 1.58.0 Command: /home/biocbuild/R/R/bin/R CMD INSTALL R453Plus1Toolbox StartedAt: 2025-10-13 21:08:55 -0000 (Mon, 13 Oct 2025) EndedAt: 2025-10-13 21:10:43 -0000 (Mon, 13 Oct 2025) EllapsedTime: 108.0 seconds RetCode: 0 Status: OK