Package: R453Plus1Toolbox Version: 1.58.0 Command: /home/biocbuild/R/R/bin/R CMD build --keep-empty-dirs --no-resave-data R453Plus1Toolbox StartedAt: 2025-10-14 03:48:21 -0000 (Tue, 14 Oct 2025) EndedAt: 2025-10-14 03:51:01 -0000 (Tue, 14 Oct 2025) EllapsedTime: 160.1 seconds RetCode: 0 Status: OK PackageFile: R453Plus1Toolbox_1.58.0.tar.gz PackageFileSize: 833.6 KiB