Package: R453Plus1Toolbox Version: 1.58.0 Command: /Library/Frameworks/R.framework/Resources/bin/R CMD build --keep-empty-dirs --no-resave-data R453Plus1Toolbox StartedAt: 2025-10-14 07:15:39 -0400 (Tue, 14 Oct 2025) EndedAt: 2025-10-14 07:18:08 -0400 (Tue, 14 Oct 2025) EllapsedTime: 149.5 seconds RetCode: 0 Status: OK PackageFile: R453Plus1Toolbox_1.58.0.tar.gz PackageFileSize: 838.9 KiB