Package: R453Plus1Toolbox Version: 1.58.0 Command: rm -rf R453Plus1Toolbox.buildbin-libdir && mkdir R453Plus1Toolbox.buildbin-libdir && /Users/biocbuild/BBS/utils/build-universal.sh R453Plus1Toolbox_1.58.0.tar.gz /Library/Frameworks/R.framework/Resources/bin/R R453Plus1Toolbox.buildbin-libdir StartedAt: 2025-10-15 19:56:37 -0400 (Wed, 15 Oct 2025) EndedAt: 2025-10-15 19:58:07 -0400 (Wed, 15 Oct 2025) EllapsedTime: 89.9 seconds RetCode: 0 Status: OK PackageFile: R453Plus1Toolbox_1.58.0.tgz PackageFileSize: 2.24 MiB