Package: QuaternaryProd Version: 1.42.0 Command: /Library/Frameworks/R.framework/Resources/bin/R CMD build --keep-empty-dirs --no-resave-data QuaternaryProd StartedAt: 2025-10-13 21:47:33 -0400 (Mon, 13 Oct 2025) EndedAt: 2025-10-13 21:59:10 -0400 (Mon, 13 Oct 2025) EllapsedTime: 697.6 seconds RetCode: 0 Status: OK PackageFile: QuaternaryProd_1.42.0.tar.gz PackageFileSize: 10.75 MiB