Package: QuaternaryProd Version: 1.42.0 Command: rm -rf QuaternaryProd.buildbin-libdir && mkdir QuaternaryProd.buildbin-libdir && /Users/biocbuild/BBS/utils/build-universal.sh QuaternaryProd_1.42.0.tar.gz /Library/Frameworks/R.framework/Resources/bin/R QuaternaryProd.buildbin-libdir StartedAt: 2025-10-14 14:27:53 -0400 (Tue, 14 Oct 2025) EndedAt: 2025-10-14 14:28:40 -0400 (Tue, 14 Oct 2025) EllapsedTime: 46.8 seconds RetCode: 0 Status: OK PackageFile: QuaternaryProd_1.42.0.tgz PackageFileSize: 10.89 MiB