Package: QuaternaryProd Version: 1.42.0 Command: /home/biocbuild/R/R/bin/R CMD build --keep-empty-dirs --no-resave-data QuaternaryProd StartedAt: 2025-10-14 03:47:11 -0000 (Tue, 14 Oct 2025) EndedAt: 2025-10-14 03:55:42 -0000 (Tue, 14 Oct 2025) EllapsedTime: 511.2 seconds RetCode: 0 Status: OK PackageFile: QuaternaryProd_1.42.0.tar.gz PackageFileSize: 10.72 MiB