Package: QuaternaryProd Version: 1.42.0 Command: rm -rf QuaternaryProd.buildbin-libdir && mkdir QuaternaryProd.buildbin-libdir && /Users/biocbuild/BBS/utils/build-universal.sh QuaternaryProd_1.42.0.tar.gz /Library/Frameworks/R.framework/Resources/bin/R QuaternaryProd.buildbin-libdir StartedAt: 2025-10-15 19:56:12 -0400 (Wed, 15 Oct 2025) EndedAt: 2025-10-15 19:56:35 -0400 (Wed, 15 Oct 2025) EllapsedTime: 22.7 seconds RetCode: 0 Status: OK PackageFile: QuaternaryProd_1.42.0.tgz PackageFileSize: 10.9 MiB