Package: QuasR Version: 1.48.1 Command: /home/biocbuild/bbs-3.21-bioc/R/bin/R CMD build --keep-empty-dirs --no-resave-data QuasR StartedAt: 2025-10-15 19:18:46 -0400 (Wed, 15 Oct 2025) EndedAt: 2025-10-15 19:23:01 -0400 (Wed, 15 Oct 2025) EllapsedTime: 255.3 seconds RetCode: 0 Status: OK PackageFile: QuasR_1.48.1.tar.gz PackageFileSize: 2.434 MiB