Package: QuartPAC Version: 1.40.0 Command: /home/biocbuild/bbs-3.21-bioc/R/bin/R CMD build --keep-empty-dirs --no-resave-data QuartPAC StartedAt: 2025-10-15 19:18:45 -0400 (Wed, 15 Oct 2025) EndedAt: 2025-10-15 19:19:40 -0400 (Wed, 15 Oct 2025) EllapsedTime: 55.1 seconds RetCode: 0 Status: OK PackageFile: QuartPAC_1.40.0.tar.gz PackageFileSize: 907.8 KiB