Package: QuartPAC Version: 1.40.0 Command: /home/biocbuild/R/R/bin/R CMD INSTALL QuartPAC StartedAt: 2025-10-13 21:11:31 -0000 (Mon, 13 Oct 2025) EndedAt: 2025-10-13 21:11:52 -0000 (Mon, 13 Oct 2025) EllapsedTime: 21.2 seconds RetCode: 0 Status: OK