Package: QuartPAC Version: 1.40.0 Command: /Library/Frameworks/R.framework/Resources/bin/R CMD INSTALL QuartPAC StartedAt: 2025-10-13 18:07:58 -0400 (Mon, 13 Oct 2025) EndedAt: 2025-10-13 18:08:15 -0400 (Mon, 13 Oct 2025) EllapsedTime: 17.2 seconds RetCode: 0 Status: OK