Package: QuartPAC Version: 1.40.0 Command: /Library/Frameworks/R.framework/Resources/bin/R CMD build --keep-empty-dirs --no-resave-data QuartPAC StartedAt: 2025-10-14 07:09:13 -0400 (Tue, 14 Oct 2025) EndedAt: 2025-10-14 07:10:21 -0400 (Tue, 14 Oct 2025) EllapsedTime: 67.9 seconds RetCode: 0 Status: OK PackageFile: QuartPAC_1.40.0.tar.gz PackageFileSize: 907.9 KiB