Package: QuartPAC Version: 1.40.0 Command: rm -rf QuartPAC.buildbin-libdir && mkdir QuartPAC.buildbin-libdir && /Users/biocbuild/BBS/utils/build-universal.sh QuartPAC_1.40.0.tar.gz /Library/Frameworks/R.framework/Resources/bin/R QuartPAC.buildbin-libdir StartedAt: 2025-10-15 19:56:09 -0400 (Wed, 15 Oct 2025) EndedAt: 2025-10-15 19:56:29 -0400 (Wed, 15 Oct 2025) EllapsedTime: 20.4 seconds RetCode: 0 Status: OK PackageFile: QuartPAC_1.40.0.tgz PackageFileSize: 647.1 KiB