Package: QSutils Version: 1.26.0 Command: /home/biocbuild/R/R/bin/R CMD build --keep-empty-dirs --no-resave-data QSutils StartedAt: 2025-10-14 03:46:11 -0000 (Tue, 14 Oct 2025) EndedAt: 2025-10-14 03:48:27 -0000 (Tue, 14 Oct 2025) EllapsedTime: 136.0 seconds RetCode: 0 Status: OK PackageFile: QSutils_1.26.0.tar.gz PackageFileSize: 1.506 MiB