Package: QFeatures Version: 1.18.0 Command: /home/biocbuild/R/R/bin/R CMD INSTALL QFeatures StartedAt: 2025-10-13 20:49:58 -0000 (Mon, 13 Oct 2025) EndedAt: 2025-10-13 20:50:42 -0000 (Mon, 13 Oct 2025) EllapsedTime: 43.9 seconds RetCode: 0 Status: OK