Package: Pviz Version: 1.42.0 Command: /home/biocbuild/R/R/bin/R CMD INSTALL Pviz StartedAt: 2025-10-13 21:03:07 -0000 (Mon, 13 Oct 2025) EndedAt: 2025-10-13 21:05:02 -0000 (Mon, 13 Oct 2025) EllapsedTime: 115.5 seconds RetCode: 0 Status: OK