Package: Pviz Version: 1.42.0 Command: /home/biocbuild/R/R/bin/R CMD build --keep-empty-dirs --no-resave-data Pviz StartedAt: 2025-10-14 03:43:55 -0000 (Tue, 14 Oct 2025) EndedAt: 2025-10-14 03:46:38 -0000 (Tue, 14 Oct 2025) EllapsedTime: 163.1 seconds RetCode: 0 Status: OK PackageFile: Pviz_1.42.0.tar.gz PackageFileSize: 198.8 KiB