Package: Pviz Version: 1.42.0 Command: /Library/Frameworks/R.framework/Resources/bin/R CMD build --keep-empty-dirs --no-resave-data Pviz StartedAt: 2025-10-14 07:02:37 -0400 (Tue, 14 Oct 2025) EndedAt: 2025-10-14 07:05:08 -0400 (Tue, 14 Oct 2025) EllapsedTime: 150.5 seconds RetCode: 0 Status: OK PackageFile: Pviz_1.42.0.tar.gz PackageFileSize: 203.4 KiB