Package: Pviz Version: 1.42.0 Command: rm -rf Pviz.buildbin-libdir && mkdir Pviz.buildbin-libdir && /Users/biocbuild/BBS/utils/build-universal.sh Pviz_1.42.0.tar.gz /Library/Frameworks/R.framework/Resources/bin/R Pviz.buildbin-libdir StartedAt: 2025-10-15 19:54:09 -0400 (Wed, 15 Oct 2025) EndedAt: 2025-10-15 19:56:00 -0400 (Wed, 15 Oct 2025) EllapsedTime: 110.8 seconds RetCode: 0 Status: OK PackageFile: Pviz_1.42.0.tgz PackageFileSize: 671.7 KiB