Package: ProteoMM Version: 1.26.0 Command: /home/biocbuild/R/R/bin/R CMD INSTALL ProteoMM StartedAt: 2025-10-13 20:40:20 -0000 (Mon, 13 Oct 2025) EndedAt: 2025-10-13 20:40:28 -0000 (Mon, 13 Oct 2025) EllapsedTime: 8.1 seconds RetCode: 0 Status: OK