Package: ProteoMM Version: 1.26.0 Command: /home/biocbuild/R/R/bin/R CMD build --keep-empty-dirs --no-resave-data ProteoMM StartedAt: 2025-10-14 03:42:17 -0000 (Tue, 14 Oct 2025) EndedAt: 2025-10-14 03:43:09 -0000 (Tue, 14 Oct 2025) EllapsedTime: 52.0 seconds RetCode: 0 Status: OK PackageFile: ProteoMM_1.26.0.tar.gz PackageFileSize: 439.9 KiB