Package: ProtGenerics Version: 1.40.0 Command: /Library/Frameworks/R.framework/Resources/bin/R CMD INSTALL ProtGenerics StartedAt: 2025-10-13 15:08:29 -0400 (Mon, 13 Oct 2025) EndedAt: 2025-10-13 15:08:32 -0400 (Mon, 13 Oct 2025) EllapsedTime: 3.3 seconds RetCode: 0 Status: OK