Package: PrInCE Version: 1.24.0 Command: /home/biocbuild/R/R/bin/R CMD INSTALL PrInCE StartedAt: 2025-10-13 21:00:01 -0000 (Mon, 13 Oct 2025) EndedAt: 2025-10-13 21:01:21 -0000 (Mon, 13 Oct 2025) EllapsedTime: 79.4 seconds RetCode: 0 Status: OK