Package: PolySTest Version: 1.2.0 Command: /home/biocbuild/bbs-3.21-bioc/R/bin/R CMD build --keep-empty-dirs --no-resave-data PolySTest StartedAt: 2025-10-15 19:11:13 -0400 (Wed, 15 Oct 2025) EndedAt: 2025-10-15 19:13:00 -0400 (Wed, 15 Oct 2025) EllapsedTime: 107.1 seconds RetCode: 0 Status: OK PackageFile: PolySTest_1.2.0.tar.gz PackageFileSize: 2.11 MiB