Package: PolySTest Version: 1.2.0 Command: /home/biocbuild/R/R/bin/R CMD INSTALL PolySTest StartedAt: 2025-10-13 20:31:21 -0000 (Mon, 13 Oct 2025) EndedAt: 2025-10-13 20:31:59 -0000 (Mon, 13 Oct 2025) EllapsedTime: 38.5 seconds RetCode: 0 Status: OK