Package: PolySTest Version: 1.2.0 Command: /home/biocbuild/R/R/bin/R CMD build --keep-empty-dirs --no-resave-data PolySTest StartedAt: 2025-10-14 03:35:40 -0000 (Tue, 14 Oct 2025) EndedAt: 2025-10-14 03:38:22 -0000 (Tue, 14 Oct 2025) EllapsedTime: 162.1 seconds RetCode: 0 Status: OK PackageFile: PolySTest_1.2.0.tar.gz PackageFileSize: 2.653 MiB