Package: PolySTest Version: 1.2.0 Command: /Library/Frameworks/R.framework/Resources/bin/R CMD INSTALL PolySTest StartedAt: 2025-10-13 16:09:46 -0400 (Mon, 13 Oct 2025) EndedAt: 2025-10-13 16:10:19 -0400 (Mon, 13 Oct 2025) EllapsedTime: 32.7 seconds RetCode: 0 Status: OK