Package: PolySTest Version: 1.2.0 Command: /Library/Frameworks/R.framework/Resources/bin/R CMD build --keep-empty-dirs --no-resave-data PolySTest StartedAt: 2025-10-14 06:43:56 -0400 (Tue, 14 Oct 2025) EndedAt: 2025-10-14 06:46:10 -0400 (Tue, 14 Oct 2025) EllapsedTime: 133.3 seconds RetCode: 0 Status: OK PackageFile: PolySTest_1.2.0.tar.gz PackageFileSize: 2.16 MiB