Package: PhIPData Version: 1.16.1 Command: /home/biocbuild/bbs-3.21-bioc/R/bin/R CMD INSTALL PhIPData StartedAt: 2025-10-15 15:48:32 -0400 (Wed, 15 Oct 2025) EndedAt: 2025-10-15 15:49:00 -0400 (Wed, 15 Oct 2025) EllapsedTime: 27.1 seconds RetCode: 0 Status: OK