Package: PhIPData Version: 1.16.1 Command: /home/biocbuild/bbs-3.21-bioc/R/bin/R CMD build --keep-empty-dirs --no-resave-data PhIPData StartedAt: 2025-10-15 19:08:26 -0400 (Wed, 15 Oct 2025) EndedAt: 2025-10-15 19:09:07 -0400 (Wed, 15 Oct 2025) EllapsedTime: 41.0 seconds RetCode: 0 Status: OK PackageFile: PhIPData_1.16.1.tar.gz PackageFileSize: 820.8 KiB