Package: PhIPData Version: 1.16.1 Command: /home/biocbuild/R/R/bin/R CMD INSTALL PhIPData StartedAt: 2025-10-13 21:07:02 -0000 (Mon, 13 Oct 2025) EndedAt: 2025-10-13 21:07:44 -0000 (Mon, 13 Oct 2025) EllapsedTime: 41.6 seconds RetCode: 0 Status: OK