Package: PhIPData Version: 1.16.1 Command: /home/biocbuild/R/R/bin/R CMD build --keep-empty-dirs --no-resave-data PhIPData StartedAt: 2025-10-14 03:31:43 -0000 (Tue, 14 Oct 2025) EndedAt: 2025-10-14 03:32:44 -0000 (Tue, 14 Oct 2025) EllapsedTime: 61.0 seconds RetCode: 0 Status: OK PackageFile: PhIPData_1.16.1.tar.gz PackageFileSize: 846.4 KiB