Package: PhIPData Version: 1.16.1 Command: rm -rf PhIPData.buildbin-libdir && mkdir PhIPData.buildbin-libdir && /Users/biocbuild/BBS/utils/build-universal.sh PhIPData_1.16.1.tar.gz /Library/Frameworks/R.framework/Resources/bin/R PhIPData.buildbin-libdir StartedAt: 2025-10-15 19:47:13 -0400 (Wed, 15 Oct 2025) EndedAt: 2025-10-15 19:47:49 -0400 (Wed, 15 Oct 2025) EllapsedTime: 36.4 seconds RetCode: 0 Status: OK PackageFile: PhIPData_1.16.1.tgz PackageFileSize: 1.201 MiB