Package: PepSetTest Version: 1.2.0 Command: /home/biocbuild/bbs-3.21-bioc/R/bin/R CMD INSTALL PepSetTest StartedAt: 2025-10-15 15:29:05 -0400 (Wed, 15 Oct 2025) EndedAt: 2025-10-15 15:29:08 -0400 (Wed, 15 Oct 2025) EllapsedTime: 2.2 seconds RetCode: 0 Status: OK