Package: PepSetTest Version: 1.2.0 Command: /home/biocbuild/bbs-3.21-bioc/R/bin/R CMD build --keep-empty-dirs --no-resave-data PepSetTest StartedAt: 2025-10-15 19:07:17 -0400 (Wed, 15 Oct 2025) EndedAt: 2025-10-15 19:07:38 -0400 (Wed, 15 Oct 2025) EllapsedTime: 21.0 seconds RetCode: 0 Status: OK PackageFile: PepSetTest_1.2.0.tar.gz PackageFileSize: 248.4 KiB