Package: PepSetTest Version: 1.2.0 Command: /Library/Frameworks/R.framework/Resources/bin/R CMD INSTALL PepSetTest StartedAt: 2025-10-13 15:46:01 -0400 (Mon, 13 Oct 2025) EndedAt: 2025-10-13 15:46:05 -0400 (Mon, 13 Oct 2025) EllapsedTime: 4.5 seconds RetCode: 0 Status: OK