Package: PepSetTest Version: 1.2.0 Command: /home/biocbuild/R/R/bin/R CMD INSTALL PepSetTest StartedAt: 2025-10-13 20:38:49 -0000 (Mon, 13 Oct 2025) EndedAt: 2025-10-13 20:38:51 -0000 (Mon, 13 Oct 2025) EllapsedTime: 2.5 seconds RetCode: 0 Status: OK